BEGIN:VCALENDAR
VERSION:2.0
PRODID:-//Vereinigung der Verfolgten des Naziregimes - ECPv6.15.20//NONSGML v1.0//EN
CALSCALE:GREGORIAN
METHOD:PUBLISH
X-ORIGINAL-URL:https://bremen.vvn-bda.de
X-WR-CALDESC:Veranstaltungen für Vereinigung der Verfolgten des Naziregimes
REFRESH-INTERVAL;VALUE=DURATION:PT1H
X-Robots-Tag:noindex
X-PUBLISHED-TTL:PT1H
BEGIN:VTIMEZONE
TZID:Europe/Helsinki
BEGIN:DAYLIGHT
TZOFFSETFROM:+0200
TZOFFSETTO:+0300
TZNAME:EEST
DTSTART:20220327T010000
END:DAYLIGHT
BEGIN:STANDARD
TZOFFSETFROM:+0300
TZOFFSETTO:+0200
TZNAME:EET
DTSTART:20221030T010000
END:STANDARD
BEGIN:DAYLIGHT
TZOFFSETFROM:+0200
TZOFFSETTO:+0300
TZNAME:EEST
DTSTART:20230326T010000
END:DAYLIGHT
BEGIN:STANDARD
TZOFFSETFROM:+0300
TZOFFSETTO:+0200
TZNAME:EET
DTSTART:20231029T010000
END:STANDARD
BEGIN:DAYLIGHT
TZOFFSETFROM:+0200
TZOFFSETTO:+0300
TZNAME:EEST
DTSTART:20240331T010000
END:DAYLIGHT
BEGIN:STANDARD
TZOFFSETFROM:+0300
TZOFFSETTO:+0200
TZNAME:EET
DTSTART:20241027T010000
END:STANDARD
END:VTIMEZONE
BEGIN:VEVENT
DTSTART;TZID=Europe/Helsinki:20230128T150000
DTEND;TZID=Europe/Helsinki:20230128T180000
DTSTAMP:20260425T164503
CREATED:20230111T152011Z
LAST-MODIFIED:20230111T152905Z
UID:4147-1674918000-1674928800@bremen.vvn-bda.de
SUMMARY:Mit Hitler zum Profit. Wie Unternehmer das NS-Regime installierten und davon profitierten
DESCRIPTION:Den 30. Januar niemals vergessen! Und nie vergessen\, wie es dazu kam. \nDer Kapitalismus muss nicht zum Faschismus führen – aber bei uns ist es geschehen\, und es kann wieder geschehen.\nWenn sich das Rüstungskapital\, der Militarismus und rechte Konservative mit der äußersten Rechten verbünden\, dann sollten wir alarmiert sein. Rechtzeitig muss gehandelt werden.\nWenn sich das Rüstungskapital\, der Militarismus und rechte Konservative mit der äußersten Rechten verbünden\, dann sollten wir alarmiert sein. Rechtzeitig muss gehandelt werden. \nWeitere Informationen auf  Instagram \nVeranstaltung mit Ulrich Sander\, Journalist\, Dortmund\n(ehem. Bundessprecher der VVN-BdA) \nEs lädt ein: VVN – Bund der Antifaschistinnen und Antifaschisten (VVN-BdA)\, Bremen. E-Mail: bremen@vvn-bda.de
URL:https://bremen.vvn-bda.de/event/mit-hitler-zum-profit-wie-unternehmer-das-ns-regime-installierten-und-davon-profitierten/
LOCATION:DGB-Haus\, Bahnhofsplatz 22\, Bremen\, Deutschland
CATEGORIES:Veranstaltungen
END:VEVENT
END:VCALENDAR