BEGIN:VCALENDAR
VERSION:2.0
PRODID:-//Vereinigung der Verfolgten des Naziregimes - ECPv6.15.20//NONSGML v1.0//EN
CALSCALE:GREGORIAN
METHOD:PUBLISH
X-ORIGINAL-URL:https://bremen.vvn-bda.de
X-WR-CALDESC:Veranstaltungen für Vereinigung der Verfolgten des Naziregimes
REFRESH-INTERVAL;VALUE=DURATION:PT1H
X-Robots-Tag:noindex
X-PUBLISHED-TTL:PT1H
BEGIN:VTIMEZONE
TZID:Europe/Helsinki
BEGIN:DAYLIGHT
TZOFFSETFROM:+0200
TZOFFSETTO:+0300
TZNAME:EEST
DTSTART:20250330T010000
END:DAYLIGHT
BEGIN:STANDARD
TZOFFSETFROM:+0300
TZOFFSETTO:+0200
TZNAME:EET
DTSTART:20251026T010000
END:STANDARD
BEGIN:DAYLIGHT
TZOFFSETFROM:+0200
TZOFFSETTO:+0300
TZNAME:EEST
DTSTART:20260329T010000
END:DAYLIGHT
BEGIN:STANDARD
TZOFFSETFROM:+0300
TZOFFSETTO:+0200
TZNAME:EET
DTSTART:20261025T010000
END:STANDARD
BEGIN:DAYLIGHT
TZOFFSETFROM:+0200
TZOFFSETTO:+0300
TZNAME:EEST
DTSTART:20270328T010000
END:DAYLIGHT
BEGIN:STANDARD
TZOFFSETFROM:+0300
TZOFFSETTO:+0200
TZNAME:EET
DTSTART:20271031T010000
END:STANDARD
END:VTIMEZONE
BEGIN:VEVENT
DTSTART;TZID=Europe/Helsinki:20260130T160000
DTEND;TZID=Europe/Helsinki:20260130T180000
DTSTAMP:20260421T155437
CREATED:20260122T162952Z
LAST-MODIFIED:20260122T163658Z
UID:4485-1769788800-1769796000@bremen.vvn-bda.de
SUMMARY:30. Januar - Jahrestag der Machtübergabe an die Nazis
DESCRIPTION:Am Freitag\, 30. Januar 2026\, werden wir ab 16:00 Uhr auf dem Bremer Marktplatz (vor der Bürgerschaft) daran erinnern\, dass an einem 30. Januar die Regierungsgeschäfte an Hitler mit einer Koalitionsregierung übertragen wurden und wie schnell sich daraus der Faschismus an der Macht entwickelte. Es wird auch die letzte Rede in der freien Bürgerschaft verlesen. \nRund um den 27. Januar gibt es wieder eine Vielzahl von Veranstaltungen\, die in einem gedruckten Programm an zahlreichen Stellen in der Stadt nachgelesen werden können und natürlich auch auf der Homepage der Landeszentrale für politische Bildung zu finden sind: https://www.landeszentrale-bremen.de
URL:https://bremen.vvn-bda.de/event/4485/
LOCATION:Bremer Marktplatz\, Am Markt 2\, Bremen\, 28195
END:VEVENT
END:VCALENDAR