BEGIN:VCALENDAR
VERSION:2.0
PRODID:-//Vereinigung der Verfolgten des Naziregimes - ECPv6.15.20//NONSGML v1.0//EN
CALSCALE:GREGORIAN
METHOD:PUBLISH
X-ORIGINAL-URL:https://bremen.vvn-bda.de
X-WR-CALDESC:Veranstaltungen für Vereinigung der Verfolgten des Naziregimes
REFRESH-INTERVAL;VALUE=DURATION:PT1H
X-Robots-Tag:noindex
X-PUBLISHED-TTL:PT1H
BEGIN:VTIMEZONE
TZID:Europe/Helsinki
BEGIN:DAYLIGHT
TZOFFSETFROM:+0200
TZOFFSETTO:+0300
TZNAME:EEST
DTSTART:20250330T010000
END:DAYLIGHT
BEGIN:STANDARD
TZOFFSETFROM:+0300
TZOFFSETTO:+0200
TZNAME:EET
DTSTART:20251026T010000
END:STANDARD
BEGIN:DAYLIGHT
TZOFFSETFROM:+0200
TZOFFSETTO:+0300
TZNAME:EEST
DTSTART:20260329T010000
END:DAYLIGHT
BEGIN:STANDARD
TZOFFSETFROM:+0300
TZOFFSETTO:+0200
TZNAME:EET
DTSTART:20261025T010000
END:STANDARD
BEGIN:DAYLIGHT
TZOFFSETFROM:+0200
TZOFFSETTO:+0300
TZNAME:EEST
DTSTART:20270328T010000
END:DAYLIGHT
BEGIN:STANDARD
TZOFFSETFROM:+0300
TZOFFSETTO:+0200
TZNAME:EET
DTSTART:20271031T010000
END:STANDARD
END:VTIMEZONE
BEGIN:VEVENT
DTSTART;VALUE=DATE:20260127
DTEND;VALUE=DATE:20260128
DTSTAMP:20260421T155543
CREATED:20251208T130139Z
LAST-MODIFIED:20251208T130139Z
UID:4475-1769472000-1769558399@bremen.vvn-bda.de
SUMMARY:Veranstaltung der Landeszentrale für politische Bildung Bremen
DESCRIPTION:Hier die digitale Version des Flyers zum Gedenkprogramm 27. Januar:  Broschuere \nEs ist wieder ein sehr umfangreiches und vielfältiges Programm mit insgesamt 80 (!) Veranstaltungen geworden.\nIm Online-Veranstaltungskalender www.politische-bildung-bremen.de werden auch ausführlichere Inhalte aufgenommen.
URL:https://bremen.vvn-bda.de/event/veranstaltung-der-landeszentrale-fuer-politische-bildung-bremen/
END:VEVENT
BEGIN:VEVENT
DTSTART;TZID=Europe/Helsinki:20260127T150000
DTEND;TZID=Europe/Helsinki:20260127T170000
DTSTAMP:20260421T155543
CREATED:20260122T162740Z
LAST-MODIFIED:20260122T162740Z
UID:4483-1769526000-1769533200@bremen.vvn-bda.de
SUMMARY:Mahnwache zur Befreiung des KZ Auschwitz mit „Bremerhaven bleibt bunt“
DESCRIPTION:Am 27. Januar 2026 um 15:00 Uhr führt das Bündnis „Bremerhaven bleibt bunt“\, in dem auch die VVN-BdA mitarbeitet\, anlässlich des 81. Jahrestages der Befreiung des KZ Auschwitz durch die Rote Armee\, eine Mahnwache vor der großen Kirche in Bremerhaven durch.
URL:https://bremen.vvn-bda.de/event/mahnwache-zur-befreiung-des-kz-auschwitz-mit-bremerhaven-bleibt-bunt/
LOCATION:Große Kirche\, Bremerhaven
END:VEVENT
END:VCALENDAR