BEGIN:VCALENDAR
VERSION:2.0
PRODID:-//Vereinigung der Verfolgten des Naziregimes - ECPv6.15.20//NONSGML v1.0//EN
CALSCALE:GREGORIAN
METHOD:PUBLISH
X-ORIGINAL-URL:https://bremen.vvn-bda.de
X-WR-CALDESC:Veranstaltungen für Vereinigung der Verfolgten des Naziregimes
REFRESH-INTERVAL;VALUE=DURATION:PT1H
X-Robots-Tag:noindex
X-PUBLISHED-TTL:PT1H
BEGIN:VTIMEZONE
TZID:Europe/Helsinki
BEGIN:DAYLIGHT
TZOFFSETFROM:+0200
TZOFFSETTO:+0300
TZNAME:EEST
DTSTART:20240331T010000
END:DAYLIGHT
BEGIN:STANDARD
TZOFFSETFROM:+0300
TZOFFSETTO:+0200
TZNAME:EET
DTSTART:20241027T010000
END:STANDARD
BEGIN:DAYLIGHT
TZOFFSETFROM:+0200
TZOFFSETTO:+0300
TZNAME:EEST
DTSTART:20250330T010000
END:DAYLIGHT
BEGIN:STANDARD
TZOFFSETFROM:+0300
TZOFFSETTO:+0200
TZNAME:EET
DTSTART:20251026T010000
END:STANDARD
BEGIN:DAYLIGHT
TZOFFSETFROM:+0200
TZOFFSETTO:+0300
TZNAME:EEST
DTSTART:20260329T010000
END:DAYLIGHT
BEGIN:STANDARD
TZOFFSETFROM:+0300
TZOFFSETTO:+0200
TZNAME:EET
DTSTART:20261025T010000
END:STANDARD
END:VTIMEZONE
BEGIN:VEVENT
DTSTART;TZID=Europe/Helsinki:20251026T160000
DTEND;TZID=Europe/Helsinki:20251026T180000
DTSTAMP:20260421T212237
CREATED:20251024T075921Z
LAST-MODIFIED:20251024T080123Z
UID:4458-1761494400-1761501600@bremen.vvn-bda.de
SUMMARY:Kundgebung "Wir sind das Stadtbild"
DESCRIPTION:Am Sonntag\, 26. Oktober\, findet nach den unsäglichen Äußerungen unseres Kanzlers auch in Bremen eine Kundgebung unter dem Motto „Wir sind das Stadtbild“ auf dem Domshof statt. Beginn ist um 16 Uhr. \n  \nDer Weser-Kurier berichtete vorab: https://www.weser-kurier.de/bremen/demo-in-bremen-protest-gegen-merz-stadtbild-aussage-auf-dem-domshof-doc82xfttuxnf91g6302god
URL:https://bremen.vvn-bda.de/event/kundgebung-wir-sind-das-stadtbild/
LOCATION:Domshof\, Domshof\, Bremen\, Bremen\, 28195
END:VEVENT
END:VCALENDAR