BEGIN:VCALENDAR
VERSION:2.0
PRODID:-//Vereinigung der Verfolgten des Naziregimes - ECPv6.15.20//NONSGML v1.0//EN
CALSCALE:GREGORIAN
METHOD:PUBLISH
X-ORIGINAL-URL:https://bremen.vvn-bda.de
X-WR-CALDESC:Veranstaltungen für Vereinigung der Verfolgten des Naziregimes
REFRESH-INTERVAL;VALUE=DURATION:PT1H
X-Robots-Tag:noindex
X-PUBLISHED-TTL:PT1H
BEGIN:VTIMEZONE
TZID:Europe/Helsinki
BEGIN:DAYLIGHT
TZOFFSETFROM:+0200
TZOFFSETTO:+0300
TZNAME:EEST
DTSTART:20230326T010000
END:DAYLIGHT
BEGIN:STANDARD
TZOFFSETFROM:+0300
TZOFFSETTO:+0200
TZNAME:EET
DTSTART:20231029T010000
END:STANDARD
BEGIN:DAYLIGHT
TZOFFSETFROM:+0200
TZOFFSETTO:+0300
TZNAME:EEST
DTSTART:20240331T010000
END:DAYLIGHT
BEGIN:STANDARD
TZOFFSETFROM:+0300
TZOFFSETTO:+0200
TZNAME:EET
DTSTART:20241027T010000
END:STANDARD
BEGIN:DAYLIGHT
TZOFFSETFROM:+0200
TZOFFSETTO:+0300
TZNAME:EEST
DTSTART:20250330T010000
END:DAYLIGHT
BEGIN:STANDARD
TZOFFSETFROM:+0300
TZOFFSETTO:+0200
TZNAME:EET
DTSTART:20251026T010000
END:STANDARD
END:VTIMEZONE
BEGIN:VEVENT
DTSTART;TZID=Europe/Helsinki:20240824T110000
DTEND;TZID=Europe/Helsinki:20240824T130000
DTSTAMP:20260422T163703
CREATED:20240815T180717Z
LAST-MODIFIED:20240815T180717Z
UID:4312-1724497200-1724504400@bremen.vvn-bda.de
SUMMARY:Antifaschistische Stadtrundfahrt
DESCRIPTION:Die VVN.BdA Bremerhaven bietet eine antifaschistische Stadtrundfahrt mit dem eigenen Fahrrad an.\nTreff ist am 24.08. um 11.00 Uhr an der Humboldtschule (Schillerstr. 87 in Bremerhaven Geestemünde). \nDie Fahrt dauert ca. 2 Stunden und führt von den Orten des NS Terrors in Geestemünde zum Hafen.\nAnmeldungen unter jokrauss5@gmail.com
URL:https://bremen.vvn-bda.de/event/antifaschistische-stadtrundfahrt/
LOCATION:Humboldtschule\, Schillerstr. 87\, Bremerhaven
END:VEVENT
END:VCALENDAR