BEGIN:VCALENDAR
VERSION:2.0
PRODID:-//Vereinigung der Verfolgten des Naziregimes - ECPv6.15.20//NONSGML v1.0//EN
CALSCALE:GREGORIAN
METHOD:PUBLISH
X-ORIGINAL-URL:https://bremen.vvn-bda.de
X-WR-CALDESC:Veranstaltungen für Vereinigung der Verfolgten des Naziregimes
REFRESH-INTERVAL;VALUE=DURATION:PT1H
X-Robots-Tag:noindex
X-PUBLISHED-TTL:PT1H
BEGIN:VTIMEZONE
TZID:Europe/Helsinki
BEGIN:DAYLIGHT
TZOFFSETFROM:+0200
TZOFFSETTO:+0300
TZNAME:EEST
DTSTART:20220327T010000
END:DAYLIGHT
BEGIN:STANDARD
TZOFFSETFROM:+0300
TZOFFSETTO:+0200
TZNAME:EET
DTSTART:20221030T010000
END:STANDARD
BEGIN:DAYLIGHT
TZOFFSETFROM:+0200
TZOFFSETTO:+0300
TZNAME:EEST
DTSTART:20230326T010000
END:DAYLIGHT
BEGIN:STANDARD
TZOFFSETFROM:+0300
TZOFFSETTO:+0200
TZNAME:EET
DTSTART:20231029T010000
END:STANDARD
BEGIN:DAYLIGHT
TZOFFSETFROM:+0200
TZOFFSETTO:+0300
TZNAME:EEST
DTSTART:20240331T010000
END:DAYLIGHT
BEGIN:STANDARD
TZOFFSETFROM:+0300
TZOFFSETTO:+0200
TZNAME:EET
DTSTART:20241027T010000
END:STANDARD
END:VTIMEZONE
BEGIN:VEVENT
DTSTART;TZID=Europe/Helsinki:20230903T120000
DTEND;TZID=Europe/Helsinki:20230903T140000
DTSTAMP:20260425T072205
CREATED:20230821T034134Z
LAST-MODIFIED:20230821T034134Z
UID:4209-1693742400-1693749600@bremen.vvn-bda.de
SUMMARY:Matinee: Mit Bertolt BRECHT gegen DEN KRIEG
DESCRIPTION:Nie wieder Krieg! Nie wieder Ehrenmale für im Krieg Getötete!\nDavon sind wir leider noch immer weit entfernt und es bedarf noch sehr vieler Anstrengungen\, diesem Ziel näherzukommen. Einen kleinen Beitrag dazu möchte die Bremer Agitproptruppe Roter Pfeffer gemeinsam mit den Agitproptruppen Aufruhr aus Köln und Dynamo Frankfurt leisten. Am 3. September stellen sie ihr Antikriegsprogramm „Mit Bertolt BRECHT gegen DEN KRIEG. Texte und Lieder von Bertolt Brecht und Hanns Eisler sowie Miniaturen wider den Krieg der Oberen gegen uns Arbeiter und Jugendliche“ vor.
URL:https://bremen.vvn-bda.de/event/matinee-mit-bertolt-brecht-gegen-den-krieg/
LOCATION:GOLDEN Event Center\, Breitenweg 41\, Bremen\, 28195
END:VEVENT
END:VCALENDAR