BEGIN:VCALENDAR
VERSION:2.0
PRODID:-//Vereinigung der Verfolgten des Naziregimes - ECPv6.15.20//NONSGML v1.0//EN
CALSCALE:GREGORIAN
METHOD:PUBLISH
X-WR-CALNAME:Vereinigung der Verfolgten des Naziregimes
X-ORIGINAL-URL:https://bremen.vvn-bda.de
X-WR-CALDESC:Veranstaltungen für Vereinigung der Verfolgten des Naziregimes
REFRESH-INTERVAL;VALUE=DURATION:PT1H
X-Robots-Tag:noindex
X-PUBLISHED-TTL:PT1H
BEGIN:VTIMEZONE
TZID:Europe/Helsinki
BEGIN:DAYLIGHT
TZOFFSETFROM:+0200
TZOFFSETTO:+0300
TZNAME:EEST
DTSTART:20220327T010000
END:DAYLIGHT
BEGIN:STANDARD
TZOFFSETFROM:+0300
TZOFFSETTO:+0200
TZNAME:EET
DTSTART:20221030T010000
END:STANDARD
BEGIN:DAYLIGHT
TZOFFSETFROM:+0200
TZOFFSETTO:+0300
TZNAME:EEST
DTSTART:20230326T010000
END:DAYLIGHT
BEGIN:STANDARD
TZOFFSETFROM:+0300
TZOFFSETTO:+0200
TZNAME:EET
DTSTART:20231029T010000
END:STANDARD
BEGIN:DAYLIGHT
TZOFFSETFROM:+0200
TZOFFSETTO:+0300
TZNAME:EEST
DTSTART:20240331T010000
END:DAYLIGHT
BEGIN:STANDARD
TZOFFSETFROM:+0300
TZOFFSETTO:+0200
TZNAME:EET
DTSTART:20241027T010000
END:STANDARD
END:VTIMEZONE
BEGIN:VEVENT
DTSTART;TZID=Europe/Helsinki:20230228T190000
DTEND;TZID=Europe/Helsinki:20230228T220000
DTSTAMP:20260425T152220
CREATED:20230116T155352Z
LAST-MODIFIED:20230116T155352Z
UID:4155-1677610800-1677621600@bremen.vvn-bda.de
SUMMARY:Chemische Industrie im deutschen Faschismus -  ausgewählte Beispiele des Verbrechens
DESCRIPTION:I.G. Farben steht für das zwischen 1925 und 1945 größte Chemie-unternehmen der Welt und zugleich für eines der größten Industrieverbrechen: I.G. Auschwitz. \nNeben der Darstellung einiger Kern-Daten hierzu wird aus den Erinnerungen des ehemaligen KZ-Häftlings Rudolf Vrba zitiert\, der den I.G.-Auschwitz-Horror überlebte und zeit seines Lebens gegen das Vergessen des NS-Terrors ankämpfte. \nReferent: Dr. Wolfgang Hien\, Bremen \nEs lädt ein: VVN – Bund der Antifaschistinnen und Antifaschisten (VVN-BdA)\, Bremen. E-Mail: bremen@vvn-bda.de
URL:https://bremen.vvn-bda.de/event/chemische-industrie-im-deutschen-faschismus-ausgewaehlte-beispiele-des-verbrechens-3/
LOCATION:Kulturzentrum Kukoon\, Buntentorsteinweg 29\, Bremen\, 28201\, Deutschland
CATEGORIES:Veranstaltungen
END:VEVENT
END:VCALENDAR